BEGIN:VCALENDAR
VERSION:2.0
PRODID:-//AO Domžale - ECPv6.8.3//NONSGML v1.0//EN
CALSCALE:GREGORIAN
METHOD:PUBLISH
X-ORIGINAL-URL:https://www.aodomzale.si
X-WR-CALDESC:Dogodki za AO Domžale
REFRESH-INTERVAL;VALUE=DURATION:PT1H
X-Robots-Tag:noindex
X-PUBLISHED-TTL:PT1H
BEGIN:VTIMEZONE
TZID:Europe/Ljubljana
BEGIN:DAYLIGHT
TZOFFSETFROM:+0100
TZOFFSETTO:+0200
TZNAME:CEST
DTSTART:20210328T010000
END:DAYLIGHT
BEGIN:STANDARD
TZOFFSETFROM:+0200
TZOFFSETTO:+0100
TZNAME:CET
DTSTART:20211031T010000
END:STANDARD
END:VTIMEZONE
BEGIN:VEVENT
DTSTART;VALUE=DATE:20211028
DTEND;VALUE=DATE:20211103
DTSTAMP:20260415T233524
CREATED:20210727T062933Z
LAST-MODIFIED:20210727T062933Z
UID:6266-1635379200-1635811200@www.aodomzale.si
SUMMARY:Paklenica
DESCRIPTION:Skupni tabor v Paklenici. \nPopravi objavo\nIzbriši objavo
URL:https://www.aodomzale.si/dogodek/paklenica/
CATEGORIES:Tabor
ATTACH;FMTTYPE=image/jpeg:https://www.aodomzale.si/wp-content/uploads/2021/07/20180422_122258-scaled.jpg
ORGANIZER;CN="AO Dom%C5%BEale":MAILTO:aodomzale@gmail.com
END:VEVENT
END:VCALENDAR