BEGIN:VCALENDAR
VERSION:2.0
PRODID:-//AO Domžale - ECPv6.8.3//NONSGML v1.0//EN
CALSCALE:GREGORIAN
METHOD:PUBLISH
X-ORIGINAL-URL:https://www.aodomzale.si
X-WR-CALDESC:Dogodki za AO Domžale
REFRESH-INTERVAL;VALUE=DURATION:PT1H
X-Robots-Tag:noindex
X-PUBLISHED-TTL:PT1H
BEGIN:VTIMEZONE
TZID:Europe/Ljubljana
BEGIN:DAYLIGHT
TZOFFSETFROM:+0100
TZOFFSETTO:+0200
TZNAME:CEST
DTSTART:20190331T010000
END:DAYLIGHT
BEGIN:STANDARD
TZOFFSETFROM:+0200
TZOFFSETTO:+0100
TZNAME:CET
DTSTART:20191027T010000
END:STANDARD
END:VTIMEZONE
BEGIN:VEVENT
DTSTART;TZID=Europe/Ljubljana:20190830T173000
DTEND;TZID=Europe/Ljubljana:20190901T230000
DTSTAMP:20260424T041900
CREATED:20190822T085532Z
LAST-MODIFIED:20190823T081308Z
UID:5114-1567186200-1567378800@www.aodomzale.si
SUMMARY:Velike slovenske stene - tabor
DESCRIPTION:Možno\, da ne bodo čisto slovenske stene\, vsekakor pa bodo take\, v katerih se bo dalo lepo in z veseljem plezat! \nVeč informacij pri Maji Šuštar\, vodji tabora (oz. berite mail). 😉 \nPopravi objavo\nIzbriši objavo
URL:https://www.aodomzale.si/dogodek/velike-slovenske-stene-tabor/
CATEGORIES:Tabor
ORGANIZER;CN="AO Dom%C5%BEale":MAILTO:aodomzale@gmail.com
END:VEVENT
END:VCALENDAR