BEGIN:VCALENDAR
VERSION:2.0
PRODID:-//AO Domžale - ECPv6.8.3//NONSGML v1.0//EN
CALSCALE:GREGORIAN
METHOD:PUBLISH
X-ORIGINAL-URL:https://www.aodomzale.si
X-WR-CALDESC:Dogodki za AO Domžale
REFRESH-INTERVAL;VALUE=DURATION:PT1H
X-Robots-Tag:noindex
X-PUBLISHED-TTL:PT1H
BEGIN:VTIMEZONE
TZID:Europe/Ljubljana
BEGIN:DAYLIGHT
TZOFFSETFROM:+0100
TZOFFSETTO:+0200
TZNAME:CEST
DTSTART:20180325T010000
END:DAYLIGHT
BEGIN:STANDARD
TZOFFSETFROM:+0200
TZOFFSETTO:+0100
TZNAME:CET
DTSTART:20181028T010000
END:STANDARD
END:VTIMEZONE
BEGIN:VEVENT
DTSTART;TZID=Europe/Ljubljana:20180831T080000
DTEND;TZID=Europe/Ljubljana:20180902T200000
DTSTAMP:20260424T185345
CREATED:20180821T115949Z
LAST-MODIFIED:20180821T120047Z
UID:3740-1535702400-1535918400@www.aodomzale.si
SUMMARY:Tabor AO in ŠPO Klemenča Jama
DESCRIPTION:Tabor za vse alpije\, frikote\, boljše in slabše polovice… za vse! \nNa Klemenči Jami nad Logarsko dolino bodo ta isti vikend tudi domačini (AO Rinke); tako da ne bo problem priti do informacij o smereh\, dostopih itd.. \nPopravi objavo\nIzbriši objavo
URL:https://www.aodomzale.si/dogodek/tabor-ao-in-spo-klemenca-jama/
CATEGORIES:Tabor
ORGANIZER;CN="AO Dom%C5%BEale":MAILTO:aodomzale@gmail.com
END:VEVENT
END:VCALENDAR