BEGIN:VCALENDAR
VERSION:2.0
PRODID:-//AO Domžale - ECPv6.8.3//NONSGML v1.0//EN
CALSCALE:GREGORIAN
METHOD:PUBLISH
X-ORIGINAL-URL:https://www.aodomzale.si
X-WR-CALDESC:Dogodki za AO Domžale
REFRESH-INTERVAL;VALUE=DURATION:PT1H
X-Robots-Tag:noindex
X-PUBLISHED-TTL:PT1H
BEGIN:VTIMEZONE
TZID:Europe/Helsinki
BEGIN:DAYLIGHT
TZOFFSETFROM:+0200
TZOFFSETTO:+0300
TZNAME:EEST
DTSTART:20180325T010000
END:DAYLIGHT
BEGIN:STANDARD
TZOFFSETFROM:+0300
TZOFFSETTO:+0200
TZNAME:EET
DTSTART:20181028T010000
END:STANDARD
END:VTIMEZONE
BEGIN:VEVENT
DTSTART;VALUE=DATE:20180112
DTEND;VALUE=DATE:20180115
DTSTAMP:20260425T052813
CREATED:20180103T154754Z
LAST-MODIFIED:20180104T153710Z
UID:1345-1515715200-1515974399@www.aodomzale.si
SUMMARY:Zimski tabor na Zelenici
DESCRIPTION:Živjo\,\n\nna koledarčku oz gorniškem programčku za 2018 (še ni izšel) imamo za vikend\n12. do 14. januar \nzapisan tabor na Zelenici. Se mi zdi\, da alpinističnega potenciala okoliških hribov ni treba posebej opisovati.\n\nGre pa za zelo obiskano kočo in zato potrebujem\n– prijave za spanje in/ali polpenzion (22 EUR)\,\n– ter kandidatke in kandidate na katere lahko računamo pri aktivnostih alpinistične šole (vodenje naveze\, gaženje globokega snega\, nošenje težke opreme\, masaža po turi…).\n\nPrijave do ponedeljka 10:00. Dobra razmera je obljubljena \n\n\n\n\nLP
URL:https://www.aodomzale.si/dogodek/zimski-tabor-na-zelenici/
CATEGORIES:Skupna tura,Tabor
ATTACH;FMTTYPE=image/jpeg:https://www.aodomzale.si/wp-content/uploads/2018/01/ljubelj_roblek_zelenica_2013_podgorma.jpg
END:VEVENT
END:VCALENDAR