BEGIN:VCALENDAR
VERSION:2.0
PRODID:-//AO Domžale - ECPv6.8.3//NONSGML v1.0//EN
CALSCALE:GREGORIAN
METHOD:PUBLISH
X-ORIGINAL-URL:https://www.aodomzale.si
X-WR-CALDESC:Dogodki za AO Domžale
REFRESH-INTERVAL;VALUE=DURATION:PT1H
X-Robots-Tag:noindex
X-PUBLISHED-TTL:PT1H
BEGIN:VTIMEZONE
TZID:Europe/Ljubljana
BEGIN:DAYLIGHT
TZOFFSETFROM:+0100
TZOFFSETTO:+0200
TZNAME:CEST
DTSTART:20220327T010000
END:DAYLIGHT
BEGIN:STANDARD
TZOFFSETFROM:+0200
TZOFFSETTO:+0100
TZNAME:CET
DTSTART:20221030T010000
END:STANDARD
END:VTIMEZONE
BEGIN:VEVENT
DTSTART;VALUE=DATE:20220709
DTEND;VALUE=DATE:20220717
DTSTAMP:20260423T071307
CREATED:20211125T193257Z
LAST-MODIFIED:20220626T153011Z
UID:6500-1657324800-1657929600@www.aodomzale.si
SUMMARY:Dolomiti
DESCRIPTION:Kot ste bili že spomladi obveščeni\, se dogovarjamo z Železničarji za skupni tabor v Dolomitih\, \nkamp Sass Dlacia  (ista lokacija kot leta 2021) \ntermin  od 9.julija do 16. julija   plus minus kakšen dan (po želji) \n\nProsim\, če se okvirno zainteresirani pofočkate  na e naslov jasna@eauto.si \n\nŠtevilo oseb/ avto/avtodom/ šotor \n\nnaslednji teden bodo Železničarji že rezervirali prostor! \n\nPrijavo skupnega tabora na PZS pa tudi moramo pravočasno oddati. \n\nZdaj pa kar pogumno preverite dopuste in se prijavite ! \nPopravi objavo\nIzbriši objavo
URL:https://www.aodomzale.si/dogodek/dolomiti-2/
LOCATION:Drugo\, Slovenija
CATEGORIES:Skupna tura
ORGANIZER;CN="AO Dom%C5%BEale":MAILTO:aodomzale@gmail.com
END:VEVENT
END:VCALENDAR