BEGIN:VCALENDAR
VERSION:2.0
PRODID:-//AO Domžale - ECPv6.8.3//NONSGML v1.0//EN
CALSCALE:GREGORIAN
METHOD:PUBLISH
X-WR-CALNAME:AO Domžale
X-ORIGINAL-URL:https://www.aodomzale.si
X-WR-CALDESC:Dogodki za AO Domžale
REFRESH-INTERVAL;VALUE=DURATION:PT1H
X-Robots-Tag:noindex
X-PUBLISHED-TTL:PT1H
BEGIN:VTIMEZONE
TZID:Europe/Ljubljana
BEGIN:DAYLIGHT
TZOFFSETFROM:+0100
TZOFFSETTO:+0200
TZNAME:CEST
DTSTART:20220327T010000
END:DAYLIGHT
BEGIN:STANDARD
TZOFFSETFROM:+0200
TZOFFSETTO:+0100
TZNAME:CET
DTSTART:20221030T010000
END:STANDARD
END:VTIMEZONE
BEGIN:VEVENT
DTSTART;VALUE=DATE:20221120
DTEND;VALUE=DATE:20221121
DTSTAMP:20260422T234033
CREATED:20211125T194114Z
LAST-MODIFIED:20211125T194430Z
UID:6505-1668902400-1668902400@www.aodomzale.si
SUMMARY:Dry tooling dan
DESCRIPTION:Organizira: Maja Šuštar Habjan \nPopravi objavo\nIzbriši objavo
URL:https://www.aodomzale.si/dogodek/dry-tooling-dan/
LOCATION:Drugo\, Slovenija
CATEGORIES:Skupna tura
ATTACH;FMTTYPE=image/jpeg:https://www.aodomzale.si/wp-content/uploads/2021/11/20210427_123014-1-scaled-1.jpg
ORGANIZER;CN="AO Dom%C5%BEale":MAILTO:aodomzale@gmail.com
END:VEVENT
END:VCALENDAR