BEGIN:VCALENDAR
VERSION:2.0
PRODID:-//AO Domžale - ECPv6.8.3//NONSGML v1.0//EN
CALSCALE:GREGORIAN
METHOD:PUBLISH
X-ORIGINAL-URL:https://www.aodomzale.si
X-WR-CALDESC:Dogodki za AO Domžale
REFRESH-INTERVAL;VALUE=DURATION:PT1H
X-Robots-Tag:noindex
X-PUBLISHED-TTL:PT1H
BEGIN:VTIMEZONE
TZID:Europe/Ljubljana
BEGIN:DAYLIGHT
TZOFFSETFROM:+0100
TZOFFSETTO:+0200
TZNAME:CEST
DTSTART:20220327T010000
END:DAYLIGHT
BEGIN:STANDARD
TZOFFSETFROM:+0200
TZOFFSETTO:+0100
TZNAME:CET
DTSTART:20221030T010000
END:STANDARD
END:VTIMEZONE
BEGIN:VEVENT
DTSTART;VALUE=DATE:20220108
DTEND;VALUE=DATE:20220109
DTSTAMP:20260420T203204
CREATED:20211125T192538Z
LAST-MODIFIED:20211125T192538Z
UID:6496-1641600000-1641600000@www.aodomzale.si
SUMMARY:Ponovoletno športno plezanje
DESCRIPTION:Plezanje na Primorskem. \n  \nOrganizira: Urška Jerenec \nPopravi objavo\nIzbriši objavo
URL:https://www.aodomzale.si/dogodek/ponovoletno-sportno-plezanje/
LOCATION:Drugo\, Slovenija
CATEGORIES:Skupna tura
ATTACH;FMTTYPE=image/jpeg:https://www.aodomzale.si/wp-content/uploads/2021/11/foto_Spela_Kriznar-6-scaled-1.jpg
ORGANIZER;CN="AO Dom%C5%BEale":MAILTO:aodomzale@gmail.com
END:VEVENT
END:VCALENDAR