BEGIN:VCALENDAR
VERSION:2.0
PRODID:-//AO Domžale - ECPv6.8.3//NONSGML v1.0//EN
CALSCALE:GREGORIAN
METHOD:PUBLISH
X-ORIGINAL-URL:https://www.aodomzale.si
X-WR-CALDESC:Dogodki za AO Domžale
REFRESH-INTERVAL;VALUE=DURATION:PT1H
X-Robots-Tag:noindex
X-PUBLISHED-TTL:PT1H
BEGIN:VTIMEZONE
TZID:Europe/Ljubljana
BEGIN:DAYLIGHT
TZOFFSETFROM:+0100
TZOFFSETTO:+0200
TZNAME:CEST
DTSTART:20200329T010000
END:DAYLIGHT
BEGIN:STANDARD
TZOFFSETFROM:+0200
TZOFFSETTO:+0100
TZNAME:CET
DTSTART:20201025T010000
END:STANDARD
END:VTIMEZONE
BEGIN:VEVENT
DTSTART;VALUE=DATE:20200926
DTEND;VALUE=DATE:20200927
DTSTAMP:20260424T125750
CREATED:20200917T141624Z
LAST-MODIFIED:20200921T042326Z
UID:5998-1601078400-1601078400@www.aodomzale.si
SUMMARY:Balvanski piknik
DESCRIPTION:26. septembra 2020 imamo v letnem planu balvanski dan. Juhej! Šli bomo v Trento.  Težavnosti bolderjev so od ocene 3 naprej.\n\n\n\nDobimo se ob 8.00 pred stenco na Rodici (v primeru kasnejšega samostojnega prihoda prosim to napišite). Zaradi lažje organizacije prosim za prijavo. Svoje podatke vpišite v tabelo.\n\n\n\nDan bo namenjen predvsem plezanju in druženju članov odseka in naših boljših/slabših polovic\, otrok\, psov\, zajcev in ostalih bitij\, ki jih imate radi in bi jih pripeljali med nas. \nV ta namen bomo imeli tudi skupni piknik. Če ima kdo kakšen manjši žar\, ki ga lahko vzamemo s seboj\, naj prosim vpiše v tabelo. Za hrano in pijačo pa bo poskrbljeno. Prosimo\, da sami prinesete svoj pribor\, krožnike in kozarce – bomo poskusili narediti čim manj smeti.  Prispevek za piknik znaša 3 € na osebo.\n\nPo potrebi se poskrbi tudi za organizacijo izposoje crash padov. Ker je poleg boulderjev tudi opcija za plezanje na štrik\, ne pozabite še na to opremo.  🧗‍♂️ Je pa Trenta za neplezalce tudi dobro izhodišče za hojo\, tek in kopanje v mrzli vodi.\n\n\nKo bomo že tam\, lahko po želji izlet podaljšamo do nedelje (nedeljo vsak preživi po svoje in si sam organizira prevoz).\n\n\nV primeru poslabšanja epidemiološke slike\, bo dogodek odpovedan.\nPopravi objavo\nIzbriši objavo
URL:https://www.aodomzale.si/dogodek/balvanski-piknik/
CATEGORIES:Skupna tura
ATTACH;FMTTYPE=image/jpeg:https://www.aodomzale.si/wp-content/uploads/2020/09/IMG-8548-1.jpg
ORGANIZER;CN="AO Dom%C5%BEale":MAILTO:aodomzale@gmail.com
END:VEVENT
END:VCALENDAR