BEGIN:VCALENDAR
VERSION:2.0
PRODID:-//AO Domžale - ECPv6.8.3//NONSGML v1.0//EN
CALSCALE:GREGORIAN
METHOD:PUBLISH
X-WR-CALNAME:AO Domžale
X-ORIGINAL-URL:https://www.aodomzale.si
X-WR-CALDESC:Dogodki za AO Domžale
REFRESH-INTERVAL;VALUE=DURATION:PT1H
X-Robots-Tag:noindex
X-PUBLISHED-TTL:PT1H
BEGIN:VTIMEZONE
TZID:Europe/Ljubljana
BEGIN:DAYLIGHT
TZOFFSETFROM:+0100
TZOFFSETTO:+0200
TZNAME:CEST
DTSTART:20190331T010000
END:DAYLIGHT
BEGIN:STANDARD
TZOFFSETFROM:+0200
TZOFFSETTO:+0100
TZNAME:CET
DTSTART:20191027T010000
END:STANDARD
END:VTIMEZONE
BEGIN:VEVENT
DTSTART;TZID=Europe/Ljubljana:20190209T150000
DTEND;TZID=Europe/Ljubljana:20190209T210000
DTSTAMP:20260425T152445
CREATED:20190208T102432Z
LAST-MODIFIED:20190208T102432Z
UID:4558-1549724400-1549746000@www.aodomzale.si
SUMMARY:Plezalno središče Komenda
DESCRIPTION:Živjo prijatelji plezalci\, \nŠPO Komenda vabimo odseke in Plezalne klube sosednjih občin\, da pridete na neuradno druženje v naše še ne odprto Plezalno središče\, in sicer v soboto 9.2.2018 od 15ih do 21ih. \n>Pridte pogledat<\, kam smo zadnje dve leti vlagali energijo in kaj nam je ratalo. Gre za enkratno priložnost\, ki je ne smete zamuditi :). Za ogrevanje\, si poglejte slike na naši fb strani\nNačelniki / predsedniki prosim\, če posredujete naše vabilo vašim zainterasiranim članom. \nVstop je prost in na lastno odgovornost. Za pijačo bo poskrbljeno.\nlokacija: https://goo.gl/maps/ej792HjjgEC2 \nPlezajte\,\nMarko Pogačar\nnačelnik ŠPO Komenda \nPopravi objavo\nIzbriši objavo
URL:https://www.aodomzale.si/dogodek/plezalno-sredisce-komenda/
CATEGORIES:Prireditev
END:VEVENT
END:VCALENDAR