BEGIN:VCALENDAR
VERSION:2.0
PRODID:-//AO Domžale - ECPv6.8.3//NONSGML v1.0//EN
CALSCALE:GREGORIAN
METHOD:PUBLISH
X-WR-CALNAME:AO Domžale
X-ORIGINAL-URL:https://www.aodomzale.si
X-WR-CALDESC:Dogodki za AO Domžale
REFRESH-INTERVAL;VALUE=DURATION:PT1H
X-Robots-Tag:noindex
X-PUBLISHED-TTL:PT1H
BEGIN:VTIMEZONE
TZID:Europe/Ljubljana
BEGIN:DAYLIGHT
TZOFFSETFROM:+0100
TZOFFSETTO:+0200
TZNAME:CEST
DTSTART:20200329T010000
END:DAYLIGHT
BEGIN:STANDARD
TZOFFSETFROM:+0200
TZOFFSETTO:+0100
TZNAME:CET
DTSTART:20201025T010000
END:STANDARD
END:VTIMEZONE
BEGIN:VEVENT
DTSTART;TZID=Europe/Ljubljana:20200221T180000
DTEND;TZID=Europe/Ljubljana:20200221T183000
DTSTAMP:20260424T221514
CREATED:20200213T073153Z
LAST-MODIFIED:20221122T062634Z
UID:5746-1582308000-1582309800@www.aodomzale.si
SUMMARY:ZBOR ČLANOV (OBČNI ZBOR) PD DOMŽALE 2020
DESCRIPTION:Vabimo te na redni\, 64. občni zbor Planinskega društva Domžale\, ki bo v petek\, 21. februarja 2020\, ob 18. uri\, v sejni sobi Doma športnih organizacij\, Kopališka cesta 4\, Domžale. \nPredlagan dnevni red: \n\nPozdrav\nIzvolitev organov občnega zbora\nPoročila in plan odsekov\nPoročilo upravnega odbora\nPotrditev sestave upravnega odbora\nFinančno poročilo\nPoročilo nadzornega odbora\nRazprava na poročila\nRazno\n\nLeto 2019 je bilo za planinsko društvo Domžale izjemno aktivno! Smo društvo\, ki ima širok spekter dejavnosti prek katerih združujemo člane vseh generacij\, od najmlajših do starejših. V letu 2019 smo izvedli 29 lastnih dogodkov\, več kot 30 udeležb na dogodkih drugih društev/organizacij\, organizirali smo 35 pohodov in tur\, imeli smo alpinistične in mladinska tabora ob množici vseh ostalih izvedbenih nalog potrebnih za delovanje društva! V letu 2019 je število vseh članov naraslo za 25 %. \nNačrti za 2020 so pogumni\, na Zboru članov jih potrdimo. S prisotnostjo izkazuješ zaupanje in sodeluješ v pomembnih odločitvah tvojega društva! \nIskreno vabljen! \nUpravni odbor\nPlaninsko društvo Domžale \nPopravi objavo\nIzbriši objavo
URL:https://www.aodomzale.si/dogodek/zbor-clanov-obcni-zbor-pd-domzale-2020/
LOCATION:Planinsko društvo Domžale\, Kopališka cesta 4\, Domžale\, 1230
CATEGORIES:Prireditev
ORGANIZER;CN="PD Dom%C5%BEale":MAILTO:info@pdd.si
END:VEVENT
END:VCALENDAR