BEGIN:VCALENDAR
VERSION:2.0
PRODID:-//AO Domžale - ECPv6.8.3//NONSGML v1.0//EN
CALSCALE:GREGORIAN
METHOD:PUBLISH
X-WR-CALNAME:AO Domžale
X-ORIGINAL-URL:https://www.aodomzale.si
X-WR-CALDESC:Dogodki za AO Domžale
REFRESH-INTERVAL;VALUE=DURATION:PT1H
X-Robots-Tag:noindex
X-PUBLISHED-TTL:PT1H
BEGIN:VTIMEZONE
TZID:Europe/Ljubljana
BEGIN:DAYLIGHT
TZOFFSETFROM:+0100
TZOFFSETTO:+0200
TZNAME:CEST
DTSTART:20190331T010000
END:DAYLIGHT
BEGIN:STANDARD
TZOFFSETFROM:+0200
TZOFFSETTO:+0100
TZNAME:CET
DTSTART:20191027T010000
END:STANDARD
END:VTIMEZONE
BEGIN:VEVENT
DTSTART;TZID=Europe/Ljubljana:20191109T170000
DTEND;TZID=Europe/Ljubljana:20191109T173000
DTSTAMP:20260425T022112
CREATED:20191014T215450Z
LAST-MODIFIED:20221122T062606Z
UID:5364-1573318800-1573320600@www.aodomzale.si
SUMMARY:Zbor alpinistov
DESCRIPTION:Popravi objavo\nIzbriši objavo
URL:https://www.aodomzale.si/dogodek/zbor-alpinistov/
CATEGORIES:Prireditev
ATTACH;FMTTYPE=image/jpeg:https://www.aodomzale.si/wp-content/uploads/2019/10/AOZ_ZA_Vabilo_v2.jpg
END:VEVENT
END:VCALENDAR