BEGIN:VCALENDAR
VERSION:2.0
PRODID:-//AO Domžale - ECPv6.8.3//NONSGML v1.0//EN
CALSCALE:GREGORIAN
METHOD:PUBLISH
X-WR-CALNAME:AO Domžale
X-ORIGINAL-URL:https://www.aodomzale.si
X-WR-CALDESC:Dogodki za AO Domžale
REFRESH-INTERVAL;VALUE=DURATION:PT1H
X-Robots-Tag:noindex
X-PUBLISHED-TTL:PT1H
BEGIN:VTIMEZONE
TZID:Europe/Ljubljana
BEGIN:DAYLIGHT
TZOFFSETFROM:+0100
TZOFFSETTO:+0200
TZNAME:CEST
DTSTART:20190331T010000
END:DAYLIGHT
BEGIN:STANDARD
TZOFFSETFROM:+0200
TZOFFSETTO:+0100
TZNAME:CET
DTSTART:20191027T010000
END:STANDARD
END:VTIMEZONE
BEGIN:VEVENT
DTSTART;TZID=Europe/Ljubljana:20190211T180000
DTEND;TZID=Europe/Ljubljana:20190211T200000
DTSTAMP:20260425T132824
CREATED:20190130T120358Z
LAST-MODIFIED:20190211T082523Z
UID:4529-1549908000-1549915200@www.aodomzale.si
SUMMARY:Predstavitev knjige alpinista Bogdana Biščka »Igra in biseri«.
DESCRIPTION:Predstavitev knjige alpinista Bogdana Biščka »Igra in biseri«. \nIz prve roke boste lahko izvedeli zakaj je avtor izbral podnaslov »Kako sem hčerki z alpinizmom razložil življenje« in še vrsto drugih zanimivosti. \nNa predstavitvah bo možno knjigo tudi kupiti po ugodni promocijski ceni.\nKnjižnica Domžale Bogdan Biščak \nPopravi objavo\nIzbriši objavo
URL:https://www.aodomzale.si/dogodek/predstavitev-knjige-alpinista-bogdana-biscka-igra-in-biseri/
LOCATION:Knjižnica Domžale\, Cesta talcev 4\, Domžale\, 1230\, Slovenija
CATEGORIES:Predavanje
ATTACH;FMTTYPE=image/jpeg:https://www.aodomzale.si/wp-content/uploads/2019/02/biščak.jpg
ORGANIZER;CN="Kulturni dom Franca Bernika Dom%C5%BEale":MAILTO:info@kd-domzale.si
END:VEVENT
END:VCALENDAR