BEGIN:VCALENDAR
VERSION:2.0
PRODID:-//AO Domžale - ECPv6.8.3//NONSGML v1.0//EN
CALSCALE:GREGORIAN
METHOD:PUBLISH
X-WR-CALNAME:AO Domžale
X-ORIGINAL-URL:https://www.aodomzale.si
X-WR-CALDESC:Dogodki za AO Domžale
REFRESH-INTERVAL;VALUE=DURATION:PT1H
X-Robots-Tag:noindex
X-PUBLISHED-TTL:PT1H
BEGIN:VTIMEZONE
TZID:Europe/Helsinki
BEGIN:DAYLIGHT
TZOFFSETFROM:+0200
TZOFFSETTO:+0300
TZNAME:EEST
DTSTART:20180325T010000
END:DAYLIGHT
BEGIN:STANDARD
TZOFFSETFROM:+0300
TZOFFSETTO:+0200
TZNAME:EET
DTSTART:20181028T010000
END:STANDARD
END:VTIMEZONE
BEGIN:VEVENT
DTSTART;TZID=Europe/Helsinki:20180206T080000
DTEND;TZID=Europe/Helsinki:20180206T190000
DTSTAMP:20260426T062800
CREATED:20180202T112118Z
LAST-MODIFIED:20180202T113314Z
UID:1811-1517904000-1517943600@www.aodomzale.si
SUMMARY:LUMARJEV GORNIŠKI VEČER S TADEJEM GOLOBOM
DESCRIPTION:Lumarjev gorniški večer s Tadejem Golobom\nz naslovom \nGore niso le besede.\nTadej Golob (1967) iz Maribora\, živi v Ljubljani\, novinar\, pisatelj\, urednik in alpinist. Poročen\, oče dveh otrok\, samostojni kulturni delavec. Član Alpinističnega odseka Železničar\, pleza od leta 1987\, opravil je številne plezalne vzpone v slovenskih in tujih gorah\, med njimi kar nekaj prvenstvenih. Sodeloval je na dvanajstih alpinističnih odpravah\, med drugim Daulagiri (vrh\, 1998)\, Ski Everest (vrh\, 2000) in Dzasampatse (južna stena\, 2004). Avtor knjig Z Everesta (2000)\, Avtobiografija: Peter Vilfan (2004)\, Zgodba iz prve roke: Zoran Predin (2008)\, Svinjske nogice (2009)\, Zlati zob (2011)\, Kam je izginila Brina? (2013)\, Ali boma ye! (2014)\, Dajte Gogiju žogo!: Goran Dragić (2015) in Jezero (2016). Urednik revije za alpinizem\, športno plezanje in treking Grif (1995–2002) ter avtor številnih pogovorov v reviji Playboy. Prejel je nagrado kresnik (2010). \nPo uvodni predstavitvi se bo s Tadejem pogovarjal Borut Peršolja.
URL:https://www.aodomzale.si/dogodek/lumarjev-gorniski-vecer-s-tadejem-golobom/
LOCATION:Knjižnica Domžale\, Cesta talcev 4\, Domžale\, 1230\, Slovenija
CATEGORIES:Predavanje
ORGANIZER;CN="PD Dom%C5%BEale":MAILTO:info@pdd.si
END:VEVENT
END:VCALENDAR