BEGIN:VCALENDAR
VERSION:2.0
PRODID:-//AO Domžale - ECPv6.8.3//NONSGML v1.0//EN
CALSCALE:GREGORIAN
METHOD:PUBLISH
X-WR-CALNAME:AO Domžale
X-ORIGINAL-URL:https://www.aodomzale.si
X-WR-CALDESC:Dogodki za AO Domžale
REFRESH-INTERVAL;VALUE=DURATION:PT1H
X-Robots-Tag:noindex
X-PUBLISHED-TTL:PT1H
BEGIN:VTIMEZONE
TZID:Europe/Ljubljana
BEGIN:DAYLIGHT
TZOFFSETFROM:+0100
TZOFFSETTO:+0200
TZNAME:CEST
DTSTART:20210328T010000
END:DAYLIGHT
BEGIN:STANDARD
TZOFFSETFROM:+0200
TZOFFSETTO:+0100
TZNAME:CET
DTSTART:20211031T010000
END:STANDARD
END:VTIMEZONE
BEGIN:VEVENT
DTSTART;TZID=Europe/Ljubljana:20210826T180000
DTEND;TZID=Europe/Ljubljana:20210826T200000
DTSTAMP:20260423T193348
CREATED:20210810T080202Z
LAST-MODIFIED:20210810T080202Z
UID:6339-1630000800-1630008000@www.aodomzale.si
SUMMARY:Brezplačno varovanje na garažni hiši
DESCRIPTION:Varovanje je brezplačno in je namenjeno vsem\, ki bi želeli plezati. Vso opremo priskrbi AO Domžale. \nPopravi objavo\nIzbriši objavo
URL:https://www.aodomzale.si/dogodek/brezplacno-varovanje-na-garazni-hisi-3/
LOCATION:Plezalna stena ob garažni hiši\, Masljeva ulica 4\, 1230 Domžal\, Domžale\, 1230\, Slovenia
CATEGORIES:Predavanje
ATTACH;FMTTYPE=image/jpeg:https://www.aodomzale.si/wp-content/uploads/2021/08/220009026_4231051316978078_8393838483078686374_n-2.jpg
ORGANIZER;CN="AO Dom%C5%BEale":MAILTO:aodomzale@gmail.com
END:VEVENT
END:VCALENDAR