BEGIN:VCALENDAR
VERSION:2.0
PRODID:-//AO Domžale - ECPv6.8.3//NONSGML v1.0//EN
CALSCALE:GREGORIAN
METHOD:PUBLISH
X-WR-CALNAME:AO Domžale
X-ORIGINAL-URL:https://www.aodomzale.si
X-WR-CALDESC:Dogodki za AO Domžale
REFRESH-INTERVAL;VALUE=DURATION:PT1H
X-Robots-Tag:noindex
X-PUBLISHED-TTL:PT1H
BEGIN:VTIMEZONE
TZID:Europe/Ljubljana
BEGIN:DAYLIGHT
TZOFFSETFROM:+0100
TZOFFSETTO:+0200
TZNAME:CEST
DTSTART:20180325T010000
END:DAYLIGHT
BEGIN:STANDARD
TZOFFSETFROM:+0200
TZOFFSETTO:+0100
TZNAME:CET
DTSTART:20181028T010000
END:STANDARD
END:VTIMEZONE
BEGIN:VEVENT
DTSTART;TZID=Europe/Ljubljana:20180322T190000
DTEND;TZID=Europe/Ljubljana:20180322T203000
DTSTAMP:20260426T034233
CREATED:20180315T113023Z
LAST-MODIFIED:20180321T090526Z
UID:2370-1521745200-1521750600@www.aodomzale.si
SUMMARY:Predavanje in predstavitev knjige ALPINIST - Silvo Karo
DESCRIPTION:Alpinist – težko pričakovana avtobiografija protagonista zlate dobe slovenskega alpinizma\, ki ga je klic gora s kmečkega podeželja popeljal do brutalnih patagonskih viharjev\, prostranih višav Himalaje\, ožarjenih dimnikov karakorumskega granita\, grenlandskega obzorja\, indijskega monsuna\, yosemitskih navpičnih zidov in prelepih Julijskih Alp. Njegovo alpinistično kariero so najbolj zaznamovale velike stene Fitz Roya\, Cerro Torreja\, Torre Eggerja in Bhagirathija ter predanost\, drznost\, gorečnost in iskreno prijateljstvo\, ki so rodili navezo treh mušketirjev – Silva Kara\, Frančka Kneza in Janeza Jegliča ‑ Johana.\nNa predstavitvi boste lahko kupili knjigo in dobili avtorjev podpis. \nhttp://www.silvokaro.si
URL:https://www.aodomzale.si/dogodek/predavanje-in-predstavitev-knjige-alpinist-silvo-karo/
LOCATION:Kulturni dom Ihan\, Breznikova cesta 76\, Domžale\, 1230\, Slovenija
CATEGORIES:Predavanje
ATTACH;FMTTYPE=image/jpeg:https://www.aodomzale.si/wp-content/uploads/2018/03/ALPINIST-naslovna-PROMO-1600px-18-01-10.jpg
END:VEVENT
BEGIN:VEVENT
DTSTART;TZID=Europe/Ljubljana:20180326T190000
DTEND;TZID=Europe/Ljubljana:20180326T210000
DTSTAMP:20260426T034233
CREATED:20180321T084808Z
LAST-MODIFIED:20180321T090506Z
UID:2628-1522090800-1522098000@www.aodomzale.si
SUMMARY:Gorski ultramaratonec Toni Vencelj
DESCRIPTION:AO PD Domžale organizira predavanje enega naših najuspešnejših ultra trail tekačev\, Tonija Venclja. \nToni Vencelj je športu predan poklicno in osebno. Teče že več kot 30 let. Dvakrat je bil državni prvak v maratonu in postal svetovni podprvak v gorskem maratonu. Zadnja leta so njegove razdalje vse daljše. Zmagal je na etapnem maratonu v Mavretaniji in v Kamerunu. Petkrat se je uspešno udeležil več kot 200 km dolgega etapnega Marathona des Sables v maroški Sahari\, petkrat je nastopil na najprestižnejšem 170 km dolgem gorskem ultramaratonu Ultra trail de Mont Blanc. V prostem času skupaj z ženo Katjo\, ki je tudi ultramaratonka\, rada potujeta in potovanja povezujeta s tekom. \nLani je uspešno končal najekstremnejši množični gorski ultramaraton 338 km dolg Tor des Geants. To avanturo vam bo predstavil ob kratkih filmih in fotografijah.
URL:https://www.aodomzale.si/dogodek/gorski-ultramaratonec-toni-vencelj/
LOCATION:Planinsko društvo Domžale\, Kopališka cesta 4\, Domžale\, 1230
CATEGORIES:Predavanje
ATTACH;FMTTYPE=image/jpeg:https://www.aodomzale.si/wp-content/uploads/2018/03/tour.jpg
ORGANIZER;CN="AO Dom%C5%BEale":MAILTO:aodomzale@gmail.com
END:VEVENT
END:VCALENDAR